BEGIN:VCALENDAR
VERSION:2.0
PRODID:-//LASLAR - Lettres Arts du spectacle Langues romanes – (UR 4256) - ECPv6.15.18//NONSGML v1.0//EN
CALSCALE:GREGORIAN
METHOD:PUBLISH
X-ORIGINAL-URL:https://laslar.unicaen.fr
X-WR-CALDESC:Évènements pour LASLAR - Lettres Arts du spectacle Langues romanes – (UR 4256)
REFRESH-INTERVAL;VALUE=DURATION:PT1H
X-Robots-Tag:noindex
X-PUBLISHED-TTL:PT1H
BEGIN:VTIMEZONE
TZID:Europe/Paris
BEGIN:DAYLIGHT
TZOFFSETFROM:+0100
TZOFFSETTO:+0200
TZNAME:CEST
DTSTART:20230326T010000
END:DAYLIGHT
BEGIN:STANDARD
TZOFFSETFROM:+0200
TZOFFSETTO:+0100
TZNAME:CET
DTSTART:20231029T010000
END:STANDARD
BEGIN:DAYLIGHT
TZOFFSETFROM:+0100
TZOFFSETTO:+0200
TZNAME:CEST
DTSTART:20240331T010000
END:DAYLIGHT
BEGIN:STANDARD
TZOFFSETFROM:+0200
TZOFFSETTO:+0100
TZNAME:CET
DTSTART:20241027T010000
END:STANDARD
BEGIN:DAYLIGHT
TZOFFSETFROM:+0100
TZOFFSETTO:+0200
TZNAME:CEST
DTSTART:20250330T010000
END:DAYLIGHT
BEGIN:STANDARD
TZOFFSETFROM:+0200
TZOFFSETTO:+0100
TZNAME:CET
DTSTART:20251026T010000
END:STANDARD
END:VTIMEZONE
BEGIN:VEVENT
DTSTART;TZID=Europe/Paris:20240111T180000
DTEND;TZID=Europe/Paris:20240111T200000
DTSTAMP:20260423T064917
CREATED:20231221T131400Z
LAST-MODIFIED:20231221T131541Z
UID:48245-1704996000-1705003200@laslar.unicaen.fr
SUMMARY:Histoire culturelle du cinéma
DESCRIPTION:La prochaine séance du séminaire « Histoire culturelle du cinéma » aura lieu jeudi 11 janvier de 18h à 20h. Nous aurons le plaisir de recevoir Guillaume Jaehnert pour des « Réflexions autour du costume dans une approche gender du cinéma » \n\n\n\nLe séminaire se tiendra comme d’habitude à Paris\, Institut national de l’histoire de l’art (INHA)\, 2 rue Vivienne\, salle Walter Benjamin (rez-de-chaussée). Nouveauté de l’année 2024\, il sera également proposé simultanément en visioconférence.  \n\n\n\nVoici les informations qui vous permettront de vous connecter si vous le souhaitez :https://pantheonsorbonne.zoom.us/j/93564586318?pwd=b2VULzJFclBEdjBuTmhlM0pWTHhNdz09ID de réunion: 935 6458 6318Code secret: 835057 \n\n\n\nPour en savoir plus sur cette séance : https://histcultcine.hypotheses.org/4938#more-4938 \n\n\n\nPour consulter le programme annuel du séminaire\, qui poursuit son cycle « Appréhender le genre en histoire culturelle du cinéma » : https://histcultcine.hypotheses.org/4896
URL:https://laslar.unicaen.fr/evenement/histoire-culturelle-du-cinema/
CATEGORIES:Séminaire
END:VEVENT
BEGIN:VEVENT
DTSTART;TZID=Europe/Paris:20240117T090000
DTEND;TZID=Europe/Paris:20240117T180000
DTSTAMP:20260423T064917
CREATED:20230911T090709Z
LAST-MODIFIED:20240109T091521Z
UID:47961-1705482000-1705514400@laslar.unicaen.fr
SUMMARY:Le cri dans les arts du spectacle et les lettres
DESCRIPTION:Ces deux journées d’études s’inscrivent dans un cycle de recherche dont le but est de penser le cri dans les arts du spectacle et les lettres à travers plusieurs approches ;historique et sociopolitique\, esthétique et figurative\, thématique et actorale. Après une journée inaugurale consacrée aux perspectives historiques et sociopolitiques du cri\, cette deuxième et troisième journées d’étude du mercredi 8 novembre 2023 et mercredi 17 janvier 2024 à l’Université de Caen Normandie privilégieront une approche esthétique. Il s’agira de porter la réflexion sur les options de figuration et de stylisation que le cri inspire aux metteurs en scène (théâtre et cinéma) et aux écrivains. Soudain traversé par des émotions extrêmes\, le corps produit jusqu’au visage\, siège palpable de leur intensité\, la sonorisation déchirante de leur épanchement. Dans l’instant du cri\, l’artiste cherche à créer une forme fondée sur l’excès des limites\, celles de son matériau\, mais aussi celles de la conscience et de la raison. \n\n\n\n\nJournée d’études « Le cri dans les arts du spectacle et les lettres »
URL:https://laslar.unicaen.fr/evenement/le-cri-dans-les-arts-du-spectacle-et-les-lettres-2/
LOCATION:Caen · Campus 1 · Maison de la recherche en sciences humaines (MRSH) · Amphi\, Campus 1\, Maison de la recherche en sciences humaines (MRSH)\, 1 Esplanade de la Paix\, Caen\, 14000\, France
CATEGORIES:Journée d'étude
ORGANIZER;CN="David VASSE%2C Yann CALVET et H%C3%A9l%C3%A8ne FRAZIK":MAILTO:david.vasse@unicaen.fr
END:VEVENT
BEGIN:VEVENT
DTSTART;TZID=Europe/Paris:20240119T140000
DTEND;TZID=Europe/Paris:20240119T190000
DTSTAMP:20260423T064917
CREATED:20231206T154620Z
LAST-MODIFIED:20250602T085139Z
UID:48189-1705672800-1705690800@laslar.unicaen.fr
SUMMARY:Soutenance HDR Fabien Cavaillé
DESCRIPTION:Titre du dossier d’HDR : Déplacer\, élargir\, matérialiser l’histoire des spectacles. Questions de dramaturgie et de réception dans le théâtre français de la première modernité et ses appropriations contemporaines. \n\n\n\nJury : \n\n\n\n\nGilles Declercq (Université Sorbonne Nouvelle)\n\n\n\nNathalie Gauthard (Université d’Artois)\n\n\n\nRenzo Guardenti (Université de Florence)\n\n\n\nSylvaine Guyot (New York University)\n\n\n\nRomain Jobez (Université de Caen Normandie\, garant)\n\n\n\nTiphaine Karsenti (Université Paris Nanterre)
URL:https://laslar.unicaen.fr/evenement/soutenance-hdr-fabien-cavaille/
LOCATION:Caen · Campus 1 · Bâtiment D · Salle du Belvédère\, Centre de recherche en sciences de l'éducation\, Esplanade de la Paix\, Caen\, 14000\, France
CATEGORIES:Soutenance
END:VEVENT
BEGIN:VEVENT
DTSTART;TZID=Europe/Paris:20240122T170000
DTEND;TZID=Europe/Paris:20240122T190000
DTSTAMP:20260423T064917
CREATED:20240115T084015Z
LAST-MODIFIED:20240115T084132Z
UID:48275-1705942800-1705950000@laslar.unicaen.fr
SUMMARY:Sarah Bernhardt & Eleonora Duse - Mise en regard d'une rivalité
DESCRIPTION:Dans le cadre de la chaire franco-italienne que nous avons mise en place avec l’université Suor Orsola Benincasa de Naples\, le professeur Alvio Patierno est invité dans notre université jusqu’au mois de février. Il proposera le 22 janvier à 17h à la MRSH une conférence intitulée « Sarah Bernhardt & Eleonora Duse\, mise en regard d’une rivalité » (voir pièce jointe)\, qui est susceptible d’intéresser tant les spécialistes de lettres que d’arts du spectacle\, tant les chercheurs en littérature française et comparée que les italianistes.  \n\n\n\n\nAffiche Conférence « Sarah Bernhardt & Eleonora Duse – Mise en regard d’une rivalité »
URL:https://laslar.unicaen.fr/evenement/sarah-bernhardt-eleonora-duse-mise-en-regard-dune-rivalite/
LOCATION:Caen · Campus 1 · Maison de la recherche en sciences humaines (MRSH) · Salle des Actes (SH027)\, Campus 1\, Maison de la recherche en sciences humaines (MRSH)\, 1 Esplanade de la Paix\, Caen\, 14000\, France
CATEGORIES:Conférence
ORGANIZER;CN="Julie ANSELMINI":MAILTO:julie.anselmini@unicaen.fr
END:VEVENT
BEGIN:VEVENT
DTSTART;TZID=Europe/Paris:20240125T090000
DTEND;TZID=Europe/Paris:20240126T180000
DTSTAMP:20260423T064917
CREATED:20230911T091233Z
LAST-MODIFIED:20240116T150811Z
UID:47966-1706173200-1706292000@laslar.unicaen.fr
SUMMARY:L’expérience de la faim dans l’art et le cinéma : images\, poétiques\, politiques
DESCRIPTION:Modalité centrale de l’expérience de la pauvreté\, la faim en est pourtant l’un des aspects les plus rétifs à la figuration. Celui qui n’est pas amené à éprouver le manque de nourriture ne saurait rencontrer que des affamés – jamais la faim elle-même. Et il en est de même au cinéma\, au théâtre\, en peinture ou en littérature\, où la représentation de la pauvreté passe plus volontiers par d’autres indices\, visuellement lisibles (vêtements rapiécés\, marques de saleté\, étroitesse des lieux d’habitation…). Or\, un problème ne devient pleinement politique qu’à partir du moment où il est perçu et discuté par la communauté. Reste à savoir à quelles conditions (figuratives\, iconographiques ou éthiques) il est possible d’opérer cette transformation de la souffrance\, intérieure et individuelle\, en un affect politique visible. C’est en se situant au confluent des disciplines et des formes artistiques que ce colloque aimerait s’intéresser aux multiples solutions inventées par les œuvres pour approcher et donner à éprouver l’expérience de la faim. \n\n\n\n\nAffiche colloque « L’expérience de la faim dans l’art et le cinéma : images\, poétiques\, politiques »\n\n\n\n\nProgramme colloque « L’expérience de la faim dans l’art et le cinéma : images\, poétiques\, politiques »
URL:https://laslar.unicaen.fr/evenement/lexperience-de-la-faim-dans-lart-et-le-cinema-images-poetiques-politiques/
LOCATION:Caen · Campus 1 · Maison de la recherche en sciences humaines (MRSH) · Amphi\, Campus 1\, Maison de la recherche en sciences humaines (MRSH)\, 1 Esplanade de la Paix\, Caen\, 14000\, France
CATEGORIES:Congrès - Colloque
ORGANIZER;CN="Rapha%C3%ABl JAUDON":MAILTO:raphael.jaudon@unicaen.fr
END:VEVENT
BEGIN:VEVENT
DTSTART;TZID=Europe/Paris:20240126T140000
DTEND;TZID=Europe/Paris:20240126T170000
DTSTAMP:20260423T064917
CREATED:20230927T092851Z
LAST-MODIFIED:20240116T101459Z
UID:48011-1706277600-1706288400@laslar.unicaen.fr
SUMMARY:Séminaire doctoral "Modèles et contre-modèles"
DESCRIPTION:Le séminaire a pour vocation de donner de la visibilité aux travaux de recherche des doctorants et d’échanger autour de sujets d’études pluridisciplinaires en interrogeant les notions de modèles et contre-modèles selon trois axes de réflexion : les ruptures et continuités artistiques\, l’intertextualité et l’intericonicité\, et l’art face à la société. \n\n\n\nLa prochaine séance aura lieu le vendredi 26 janvier à 14h dans la Salle des Thèses de la MRSH. Nous entendrons les deux interventions suivantes : \n\n\n\n14h15 : Audrey Milet\, Barbey d’Aurevilly et l’inversion des modèles sacrés : poétique de l’inconvenant dans Un prêtre marié (1865) \n\n\n\n15h : Isabelle Evenard\, Jean-Louis Barrault et le mime : une voie vers de nouvelles pratiques de jeu et de mise en scène. \n\n\n\n\nAffiche séminaire doctoral « Modèles et contre-modèles » – 2024
URL:https://laslar.unicaen.fr/evenement/seminaire-doctoral-modeles-et-contre-modeles-2/
LOCATION:Caen · Campus 1 · Maison de la recherche en sciences humaines (MRSH) · Salle des Thèses (SH028)\, Campus 1\, Maison de la recherche en sciences humaines (MRSH)\, 1 Esplanade de la Paix\, Caen\, 14000\, France
CATEGORIES:Séminaire
ORGANIZER;CN="Florine LEMARCHAND et L%C3%A9a CHEVALIER":MAILTO:florine.lemarchand@unicaen.fr
END:VEVENT
END:VCALENDAR