BEGIN:VCALENDAR
VERSION:2.0
PRODID:-//LASLAR - Lettres Arts du spectacle Langues romanes – (UR 4256) - ECPv6.15.18//NONSGML v1.0//EN
CALSCALE:GREGORIAN
METHOD:PUBLISH
X-WR-CALNAME:LASLAR - Lettres Arts du spectacle Langues romanes – (UR 4256)
X-ORIGINAL-URL:https://laslar.unicaen.fr
X-WR-CALDESC:Évènements pour LASLAR - Lettres Arts du spectacle Langues romanes – (UR 4256)
REFRESH-INTERVAL;VALUE=DURATION:PT1H
X-Robots-Tag:noindex
X-PUBLISHED-TTL:PT1H
BEGIN:VTIMEZONE
TZID:Europe/Paris
BEGIN:DAYLIGHT
TZOFFSETFROM:+0100
TZOFFSETTO:+0200
TZNAME:CEST
DTSTART:20210328T010000
END:DAYLIGHT
BEGIN:STANDARD
TZOFFSETFROM:+0200
TZOFFSETTO:+0100
TZNAME:CET
DTSTART:20211031T010000
END:STANDARD
BEGIN:DAYLIGHT
TZOFFSETFROM:+0100
TZOFFSETTO:+0200
TZNAME:CEST
DTSTART:20220327T010000
END:DAYLIGHT
BEGIN:STANDARD
TZOFFSETFROM:+0200
TZOFFSETTO:+0100
TZNAME:CET
DTSTART:20221030T010000
END:STANDARD
BEGIN:DAYLIGHT
TZOFFSETFROM:+0100
TZOFFSETTO:+0200
TZNAME:CEST
DTSTART:20230326T010000
END:DAYLIGHT
BEGIN:STANDARD
TZOFFSETFROM:+0200
TZOFFSETTO:+0100
TZNAME:CET
DTSTART:20231029T010000
END:STANDARD
END:VTIMEZONE
BEGIN:VEVENT
DTSTART;TZID=Europe/Paris:20221202T090000
DTEND;TZID=Europe/Paris:20221202T180000
DTSTAMP:20260422T195438
CREATED:20230706T153058Z
LAST-MODIFIED:20230706T153059Z
UID:20106-1669971600-1670004000@laslar.unicaen.fr
SUMMARY:Le "Dieu gard" : enquête sur une forme poétique originale du XVIe siècle
DESCRIPTION:À quoi peut bien renvoyer la présence récurrente de l’expression « Dieu gard » qui figure dans un certain nombre de textes poétiques français du xviesiècle?  Parfois limité à quelques vers\, ce syntagme va pourtant jusqu’à figurer au titre du Dieu gardde Marot à son retour de Ferrare(1537). Au fil du siècle\, les « Dieu gard » perdurent\, laissant ainsi envisager l’existence d’une tradition qui traverse les générations poétiques. La confidentialité de ces compositions et l’absence du « Dieu gard » dans les traités de poétique expliquent sans doute le désintérêt des chercheurs. La richesse du corpus jusqu’ici constitué a pourtant suscité notre curiosité et cette journée d’étude visera à déterminer les conditions d’existence de ce genre à géométrie variable.  \n\n\n\nProgramme Le « Dieu gard »
URL:https://laslar.unicaen.fr/evenement/le-dieu-gard-enquete-sur-une-forme-poetique-originale-du-xvie-siecle/
LOCATION:Caen · Campus 1 · Maison de la recherche en sciences humaines (MRSH) · Salle des Actes (SH027)\, Campus 1\, Maison de la recherche en sciences humaines (MRSH)\, 1 Esplanade de la Paix\, Caen\, 14000\, France
CATEGORIES:Journée d'étude
ORGANIZER;CN="J%C3%A9r%C3%A9mie BICH%C3%9CE":MAILTO:jeremie.bichue@unicaen.fr
END:VEVENT
BEGIN:VEVENT
DTSTART;TZID=Europe/Paris:20221202T140000
DTEND;TZID=Europe/Paris:20221202T160000
DTSTAMP:20260422T195438
CREATED:20230706T153509Z
LAST-MODIFIED:20230706T153510Z
UID:20110-1669989600-1669996800@laslar.unicaen.fr
SUMMARY:Séminaire Doctoral "Modèles et contre-modèles" - Séance 3
DESCRIPTION:Après deux premières séances particulièrement riches\, le séminaire doctoral « Modèles et contre-modèles » continue en 2022-2023. Pour rappel\, le séminaire a pour vocation de donner de la visibilité aux travaux de recherche des doctorants\, en les invitant à interroger leurs sujets de thèse au prisme des notions de modèles et contre-modèles selon trois axes de réflexion : les ruptures et continuités artistiques\, l’intertextualité et l’intericonicité\, et l’art face à la société. Dans sa présentation intitulée « La Pelle du large : pluralité des voix et achronie intericonique. D’une approche distanciée du modèle odysséen à l’usage des enfants »\, Marlène Fraterno\, doctorante en littérature\, s’intéressera à la façon dont le théâtre d’objets permet de renouveler l’approche de L’Odyssée dans l’enseignement primaire et secondaire. Robin Hopquin\, docteur en études cinématographiques et ATER au sein du département d’Arts du Spectacle\, interrogera ensuite les représentations du village au cinéma dans une communication intitulée « Le village français à l’après-guerre : modèle et contre-modèle cinématographique. L’exemple de La Douceur du village«  \n\n\n\nProgramme Modèles et contre-modèles – Séance 3
URL:https://laslar.unicaen.fr/evenement/seminaire-doctoral-modeles-et-contre-modeles-seance-3/
LOCATION:Caen · Campus 1 · Maison de la recherche en sciences humaines (MRSH) · Salle des Thèses (SH028)\, Campus 1\, Maison de la recherche en sciences humaines (MRSH)\, 1 Esplanade de la Paix\, Caen\, 14000\, France
CATEGORIES:Séminaire
ORGANIZER;CN="Florine LEMARCHAND et L%C3%A9a CHEVALIER":MAILTO:florine.lemarchand@unicaen.fr
END:VEVENT
BEGIN:VEVENT
DTSTART;TZID=Europe/Paris:20221209T090000
DTEND;TZID=Europe/Paris:20221209T180000
DTSTAMP:20260422T195438
CREATED:20230706T153956Z
LAST-MODIFIED:20230706T153957Z
UID:20114-1670576400-1670608800@laslar.unicaen.fr
SUMMARY:Baroque au Présent
DESCRIPTION:Pourquoi et comment représenter le répertoire baroque sur les scènes contemporaines ? Peut-on imaginer à partir de lui d’autres formes lyriques ? Quelles histoires raconter à travers celles-ci ? Pour répondre à ces questions\, des chercheurs des universités de Caen et de Rouen ont mis en place\, depuis 2019\, un cycle de journées « Baroque au présent » autour des créations données au Théâtre de Caen.  \n\n\n\nLa troisième journée de discussion et de rencontres est consacrée à Combattimento\, la Théorie du Cygne noir (direction Sébastien Daucé\, Ensemble Correspondances ; mise en scène Silvia Costa) \n\n\n\nOrganisation : Judith le Blanc (CNRS\, CMBV/Université de Rouen\, CÉRÉDI)\, Caroline Mounier-Vehier (Centre de Musique Baroque de Versailles)\, Fabien Cavaillé et Claire Lechevalier (Université de Caen\, LASLAR) \n\n\n\nEntrée libre – foyers du Théâtre de Caen \n\n\n\nProgramme Autour de Combatimentto\, la Théorie du Cygne noir – Baroque au présent
URL:https://laslar.unicaen.fr/evenement/baroque-au-present/
LOCATION:Caen · Campus 1 · Maison de la recherche en sciences humaines (MRSH) · Amphi\, Campus 1\, Maison de la recherche en sciences humaines (MRSH)\, 1 Esplanade de la Paix\, Caen\, 14000\, France
CATEGORIES:Journée d'étude
ORGANIZER;CN="Claire LECHEVALIER":MAILTO:claire.lechevalier@unicaen.fr
END:VEVENT
END:VCALENDAR