BEGIN:VCALENDAR
VERSION:2.0
PRODID:-//LASLAR - Lettres Arts du spectacle Langues romanes – (UR 4256) - ECPv6.15.18//NONSGML v1.0//EN
CALSCALE:GREGORIAN
METHOD:PUBLISH
X-WR-CALNAME:LASLAR - Lettres Arts du spectacle Langues romanes – (UR 4256)
X-ORIGINAL-URL:https://laslar.unicaen.fr
X-WR-CALDESC:Évènements pour LASLAR - Lettres Arts du spectacle Langues romanes – (UR 4256)
REFRESH-INTERVAL;VALUE=DURATION:PT1H
X-Robots-Tag:noindex
X-PUBLISHED-TTL:PT1H
BEGIN:VTIMEZONE
TZID:Europe/Paris
BEGIN:DAYLIGHT
TZOFFSETFROM:+0100
TZOFFSETTO:+0200
TZNAME:CEST
DTSTART:20210328T010000
END:DAYLIGHT
BEGIN:STANDARD
TZOFFSETFROM:+0200
TZOFFSETTO:+0100
TZNAME:CET
DTSTART:20211031T010000
END:STANDARD
BEGIN:DAYLIGHT
TZOFFSETFROM:+0100
TZOFFSETTO:+0200
TZNAME:CEST
DTSTART:20220327T010000
END:DAYLIGHT
BEGIN:STANDARD
TZOFFSETFROM:+0200
TZOFFSETTO:+0100
TZNAME:CET
DTSTART:20221030T010000
END:STANDARD
BEGIN:DAYLIGHT
TZOFFSETFROM:+0100
TZOFFSETTO:+0200
TZNAME:CEST
DTSTART:20230326T010000
END:DAYLIGHT
BEGIN:STANDARD
TZOFFSETFROM:+0200
TZOFFSETTO:+0100
TZNAME:CET
DTSTART:20231029T010000
END:STANDARD
END:VTIMEZONE
BEGIN:VEVENT
DTSTART;TZID=Europe/Paris:20220518T090000
DTEND;TZID=Europe/Paris:20220518T180000
DTSTAMP:20260425T144946
CREATED:20230706T131822Z
LAST-MODIFIED:20230706T131823Z
UID:20060-1652864400-1652896800@laslar.unicaen.fr
SUMMARY:La vulgarisation et les arts (journée doctorale LASLAR EA4256)
DESCRIPTION:À l’heure où la vulgarisation artistique se développe dans les institutions\, grâce à des associations\, sous forme de chaînes YouTube ou encore de podcasts\, quel rôle peut-elle jouer dans l’évolution et l’invention de regards\, discours et pratiques artistiques ? La vulgarisation apparaît comme intimement corrélée à la diffusion\, d’où l’importance d’examiner les différents enjeux de la communication entre le spécialiste et le « grand public ». La difficulté d’accès du discours savant à un public élargi n’est pas réservée à la culture scientifique : les pratiques de vulgarisation témoignent de la nécessité de rendre accessibles à tous des arts souvent jugés élitistes. Cette journée doctorale se propose ainsi d’étudier les diverses stratégies d’optimisation réceptive déployées par plusieurs formes d’art et envisage la vulgarisation comme pratique tout en invitant à questionner ses méthodes du point de vue des littératures française\, romanes et comparée et des arts du spectacle. \n\n\n\nProgramme Journée doctorale : la vulgarisation et les arts
URL:https://laslar.unicaen.fr/evenement/la-vulgarisation-et-les-arts-journee-doctorale-laslar-ea4256/
LOCATION:Caen · Campus 1 · Maison de la recherche en sciences humaines (MRSH) · Amphi\, Campus 1\, Maison de la recherche en sciences humaines (MRSH)\, 1 Esplanade de la Paix\, Caen\, 14000\, France
CATEGORIES:Journée d'étude
ORGANIZER;CN="L%C3%A9a CHEVALIER%2C Marie GOURGUES%2C Florine LEMARCHAND et Pauline ODEURS":MAILTO:florine.lemarchand@unicaen.fr
END:VEVENT
END:VCALENDAR