BEGIN:VCALENDAR
VERSION:2.0
PRODID:-//LASLAR - Lettres Arts du spectacle Langues romanes – (UR 4256) - ECPv6.15.18//NONSGML v1.0//EN
CALSCALE:GREGORIAN
METHOD:PUBLISH
X-ORIGINAL-URL:https://laslar.unicaen.fr
X-WR-CALDESC:Évènements pour LASLAR - Lettres Arts du spectacle Langues romanes – (UR 4256)
REFRESH-INTERVAL;VALUE=DURATION:PT1H
X-Robots-Tag:noindex
X-PUBLISHED-TTL:PT1H
BEGIN:VTIMEZONE
TZID:Europe/Paris
BEGIN:DAYLIGHT
TZOFFSETFROM:+0100
TZOFFSETTO:+0200
TZNAME:CEST
DTSTART:20250330T010000
END:DAYLIGHT
BEGIN:STANDARD
TZOFFSETFROM:+0200
TZOFFSETTO:+0100
TZNAME:CET
DTSTART:20251026T010000
END:STANDARD
BEGIN:DAYLIGHT
TZOFFSETFROM:+0100
TZOFFSETTO:+0200
TZNAME:CEST
DTSTART:20260329T010000
END:DAYLIGHT
BEGIN:STANDARD
TZOFFSETFROM:+0200
TZOFFSETTO:+0100
TZNAME:CET
DTSTART:20261025T010000
END:STANDARD
BEGIN:DAYLIGHT
TZOFFSETFROM:+0100
TZOFFSETTO:+0200
TZNAME:CEST
DTSTART:20270328T010000
END:DAYLIGHT
BEGIN:STANDARD
TZOFFSETFROM:+0200
TZOFFSETTO:+0100
TZNAME:CET
DTSTART:20271031T010000
END:STANDARD
END:VTIMEZONE
BEGIN:VEVENT
DTSTART;TZID=Europe/Paris:20260126T080000
DTEND;TZID=Europe/Paris:20261231T170000
DTSTAMP:20260422T082537
CREATED:20260126T083709Z
LAST-MODIFIED:20260302T092047Z
UID:89374-1769414400-1798736400@laslar.unicaen.fr
SUMMARY:PROGRAMME Manifestations LASLAR 2026
DESCRIPTION:Programme des manifestations du LASLAR 2026
URL:https://laslar.unicaen.fr/evenement/programme-manifestations-laslar-2026/
ORGANIZER;CN="Lettres%2C arts du spectacle%2C langues romaines (LASLAR)":MAILTO:catherine.bienvenu@unicaen.fr
END:VEVENT
BEGIN:VEVENT
DTSTART;TZID=Europe/Paris:20260126T140000
DTEND;TZID=Europe/Paris:20260430T170000
DTSTAMP:20260422T082537
CREATED:20251104T110635Z
LAST-MODIFIED:20260126T083902Z
UID:89118-1769436000-1777568400@laslar.unicaen.fr
SUMMARY:Appel à communications - Colloque "Jacques Feyder : Créateur\, Maître\, Patron"
DESCRIPTION:Précisions\n\n\n\nLieu : Centre culturel international de Cerisy (CCIC) à Cerisy-la-Salle en NormandieDates : du 2 au 5 juin 2027Langue des communications : français ou anglaisDurée des communications : 30 à 45 minutes suivies d’une discussionDate limite d’envoi des propositions (2 000 signes maximum + notice bio-bibliographique de 5 à 10 lignes) : 30 avril 2026 à colloque.feyder.2027@protonmail.comDate de réponse du comité : 1er juin 2026 \n\n\n\n\nAppel à communications colloque « Jacques Feyder : Créateur\, Maître\, Patron »
URL:https://laslar.unicaen.fr/evenement/appel-a-communications-colloque-jacques-feyder-createur-maitre-patron/
LOCATION:Cerisy-la-Salle · Centre Culturel International de Cerisy\, Château de Cerisy-la-Salle\, 2 Le Château\, Cerisy-la-Salle\, 50210\, France
CATEGORIES:Congrès - Colloque
ATTACH;FMTTYPE=image/jpeg:https://laslar.unicaen.fr/wp-content/uploads/sites/36/2025/11/UNICAEN_LASLAR_Appel_a_communication_Feyder.jpg
ORGANIZER;CN="Daniel BILTEREYST%2C Yann CALVET%2C Myriam JUAN et Guillaume VERNET":MAILTO:myriam.juan@unicaen.fr
END:VEVENT
BEGIN:VEVENT
DTSTART;TZID=Europe/Paris:20260209T093000
DTEND;TZID=Europe/Paris:20260209T170000
DTSTAMP:20260422T082537
CREATED:20260115T115317Z
LAST-MODIFIED:20260115T115319Z
UID:89245-1770629400-1770656400@laslar.unicaen.fr
SUMMARY:Masterclass « LE GRAND ECART » avec Charles Pennequin
DESCRIPTION:Poète et performeur\, tissant des liens entre écriture\, corps\, dessin et danse\, Charles Pennequin est une figure majeure de la poésie action. En 2023\, il reçoit le prix international de littérature Bernard Heidsieck – Centre Pompidou pour l’ensemble de son œuvre. \n\n\n\nEn résidence artistique à l’IMEC\, le 9 février il donnera une Masterclass intitulée « Le Grand écart » à l’attention des étudiant•es en études théâtrales. Il y sera question d’écriture\, d’engagement\, de danse\, d’action poétique dans la ville.
URL:https://laslar.unicaen.fr/evenement/masterclass-le-grand-ecart-avec-charles-pennequin/
LOCATION:Caen · Campus 1 · Studio Jo Tréhard\, Centre de recherche en sciences de l'éducation\, Esplanade de la Paix\, Caen\, 14032\, France
CATEGORIES:Masterclass
ATTACH;FMTTYPE=image/jpeg:https://laslar.unicaen.fr/wp-content/uploads/sites/36/2026/01/UNICAEN_LASLAR_Pennequin_Masterclass.jpg
ORGANIZER;CN="Cristina DE SIMONE et Coline DU COU%C3%8BDIC":MAILTO:cristina.desimone@unicaen.fr
END:VEVENT
END:VCALENDAR