BEGIN:VCALENDAR
VERSION:2.0
PRODID:-//LASLAR - Lettres Arts du spectacle Langues romanes – (UR 4256) - ECPv6.15.18//NONSGML v1.0//EN
CALSCALE:GREGORIAN
METHOD:PUBLISH
X-WR-CALNAME:LASLAR - Lettres Arts du spectacle Langues romanes – (UR 4256)
X-ORIGINAL-URL:https://laslar.unicaen.fr
X-WR-CALDESC:Évènements pour LASLAR - Lettres Arts du spectacle Langues romanes – (UR 4256)
REFRESH-INTERVAL;VALUE=DURATION:PT1H
X-Robots-Tag:noindex
X-PUBLISHED-TTL:PT1H
BEGIN:VTIMEZONE
TZID:Europe/Paris
BEGIN:DAYLIGHT
TZOFFSETFROM:+0100
TZOFFSETTO:+0200
TZNAME:CEST
DTSTART:20240331T010000
END:DAYLIGHT
BEGIN:STANDARD
TZOFFSETFROM:+0200
TZOFFSETTO:+0100
TZNAME:CET
DTSTART:20241027T010000
END:STANDARD
BEGIN:DAYLIGHT
TZOFFSETFROM:+0100
TZOFFSETTO:+0200
TZNAME:CEST
DTSTART:20250330T010000
END:DAYLIGHT
BEGIN:STANDARD
TZOFFSETFROM:+0200
TZOFFSETTO:+0100
TZNAME:CET
DTSTART:20251026T010000
END:STANDARD
BEGIN:DAYLIGHT
TZOFFSETFROM:+0100
TZOFFSETTO:+0200
TZNAME:CEST
DTSTART:20260329T010000
END:DAYLIGHT
BEGIN:STANDARD
TZOFFSETFROM:+0200
TZOFFSETTO:+0100
TZNAME:CET
DTSTART:20261025T010000
END:STANDARD
END:VTIMEZONE
BEGIN:VEVENT
DTSTART;TZID=Europe/Paris:20250211T143000
DTEND;TZID=Europe/Paris:20250211T170000
DTSTAMP:20260424T012512
CREATED:20250206T105846Z
LAST-MODIFIED:20250206T110106Z
UID:48902-1739284200-1739293200@laslar.unicaen.fr
SUMMARY:Nouvelles écritures scéniques et dramatiques
DESCRIPTION:L’équipe en études théâtrales du LASLAR organise une journée d’études au Théâtre des Cordes mardi prochain\, le 11 février. \n\n\n\nAu programme\, deux tables rondes: \n\n\n\n14h30 ―15h30 \n\n\n\nDiriger le CDN de Caen aujourd’hui \n\n\n\nTable ronde avec Aurore Fattier (directrice de la Comédie de Caen\, comédienne et metteuse en scène)\, Fabien Cavaillé et Romain Jobez. \n\n\n\n15h45 ― 16h45 \n\n\n\nÉcrire pour le théâtre \n\n\n\nTable ronde à partir du dernier numéro de la revue Théâtre/Public. Avec Simon Grangeat et Mariette Navarro (auteurs)\, Cristina De Simone et Thomas Horeau. \n\n\n\n\nAffiche « Nouvelles écritures scéniques et dramatiques »
URL:https://laslar.unicaen.fr/evenement/nouvelles-ecritures-sceniques-et-dramatiques/
LOCATION:Caen · Théâtre des Cordes · Comédie de Caen\, Théâtre des Cordes - Comédie de Caen\, 32 Rue des Cordes\, Caen\, 14000\, France
CATEGORIES:Journée d'étude
ATTACH;FMTTYPE=image/jpeg:https://laslar.unicaen.fr/wp-content/uploads/sites/36/2025/02/UNICAEN_LASLAR_illustration_nouvelles_ecritures_sceniques_et_dramatiques.jpg
ORGANIZER;CN="Fabien CAVAILL%C3%89%2C Romain JOBEZ et Cristina DE SIMONE":MAILTO:fabien.cavaille@unicaen.fr
END:VEVENT
END:VCALENDAR