BEGIN:VCALENDAR
VERSION:2.0
PRODID:-//LASLAR - Lettres Arts du spectacle Langues romanes – (UR 4256) - ECPv6.15.18//NONSGML v1.0//EN
CALSCALE:GREGORIAN
METHOD:PUBLISH
X-ORIGINAL-URL:https://laslar.unicaen.fr
X-WR-CALDESC:Évènements pour LASLAR - Lettres Arts du spectacle Langues romanes – (UR 4256)
REFRESH-INTERVAL;VALUE=DURATION:PT1H
X-Robots-Tag:noindex
X-PUBLISHED-TTL:PT1H
BEGIN:VTIMEZONE
TZID:Europe/Paris
BEGIN:DAYLIGHT
TZOFFSETFROM:+0100
TZOFFSETTO:+0200
TZNAME:CEST
DTSTART:20230326T010000
END:DAYLIGHT
BEGIN:STANDARD
TZOFFSETFROM:+0200
TZOFFSETTO:+0100
TZNAME:CET
DTSTART:20231029T010000
END:STANDARD
BEGIN:DAYLIGHT
TZOFFSETFROM:+0100
TZOFFSETTO:+0200
TZNAME:CEST
DTSTART:20240331T010000
END:DAYLIGHT
BEGIN:STANDARD
TZOFFSETFROM:+0200
TZOFFSETTO:+0100
TZNAME:CET
DTSTART:20241027T010000
END:STANDARD
BEGIN:DAYLIGHT
TZOFFSETFROM:+0100
TZOFFSETTO:+0200
TZNAME:CEST
DTSTART:20250330T010000
END:DAYLIGHT
BEGIN:STANDARD
TZOFFSETFROM:+0200
TZOFFSETTO:+0100
TZNAME:CET
DTSTART:20251026T010000
END:STANDARD
END:VTIMEZONE
BEGIN:VEVENT
DTSTART;TZID=Europe/Paris:20241116T100000
DTEND;TZID=Europe/Paris:20241116T160000
DTSTAMP:20260420T090645
CREATED:20241112T111650Z
LAST-MODIFIED:20241112T111651Z
UID:48736-1731751200-1731772800@laslar.unicaen.fr
SUMMARY:Autour de L'Uomo Femina (Galuppi/Dumestre/Jaoui) - Paroles d'artistes et de chercheurs
DESCRIPTION:Pourquoi et comment représenter le répertoire baroque sur la scène contemporaine ? Quel usage faire des sources ? Sous quelles formes transposer des œuvres parfois méconnues\, voire oubliées ? Pour quelle actualité les recréer ? \n\n\n\nPour répondre à ces questions\, des chercheurs des universités de Caen et de Rouen organisent le cycle de journées Baroque au présent autour des créations données au Théâtre de Caen.  \n\n\n\nPour cette sixième journée\, nous aurons le plaisir d’accueillir Vincent Dumestre et Agnès Jaoui pour discuter de leur travail sur L’Uomo Femina\, un opéra vénitien de 1762.  \n\n\n\nEntrée libre\, dans les foyers du Théâtre de Caen.  \n\n\n\n\nFlyer « Autour de l’Uomo Femina (Galuppi/Dumestre/Jaoui)\n\n\n\n\nAffiche « Autour de l’Uomo Femina (Galuppi/Dumestre/Jaoui)
URL:https://laslar.unicaen.fr/evenement/autour-de-luomo-femina-galuppi-dumestre-jaoui-paroles-dartistes-et-de-chercheurs/
LOCATION:Caen · Théâtre de Caen\, Théâtre de Caen\, 135 Boulevard Maréchal Leclerc\, Caen\, 14000\, France
CATEGORIES:Journée d'étude
END:VEVENT
END:VCALENDAR