BEGIN:VCALENDAR
VERSION:2.0
PRODID:-//LASLAR - Lettres Arts du spectacle Langues romanes – (UR 4256) - ECPv6.15.18//NONSGML v1.0//EN
CALSCALE:GREGORIAN
METHOD:PUBLISH
X-ORIGINAL-URL:https://laslar.unicaen.fr
X-WR-CALDESC:Évènements pour LASLAR - Lettres Arts du spectacle Langues romanes – (UR 4256)
REFRESH-INTERVAL;VALUE=DURATION:PT1H
X-Robots-Tag:noindex
X-PUBLISHED-TTL:PT1H
BEGIN:VTIMEZONE
TZID:Europe/Paris
BEGIN:DAYLIGHT
TZOFFSETFROM:+0100
TZOFFSETTO:+0200
TZNAME:CEST
DTSTART:20230326T010000
END:DAYLIGHT
BEGIN:STANDARD
TZOFFSETFROM:+0200
TZOFFSETTO:+0100
TZNAME:CET
DTSTART:20231029T010000
END:STANDARD
BEGIN:DAYLIGHT
TZOFFSETFROM:+0100
TZOFFSETTO:+0200
TZNAME:CEST
DTSTART:20240331T010000
END:DAYLIGHT
BEGIN:STANDARD
TZOFFSETFROM:+0200
TZOFFSETTO:+0100
TZNAME:CET
DTSTART:20241027T010000
END:STANDARD
BEGIN:DAYLIGHT
TZOFFSETFROM:+0100
TZOFFSETTO:+0200
TZNAME:CEST
DTSTART:20250330T010000
END:DAYLIGHT
BEGIN:STANDARD
TZOFFSETFROM:+0200
TZOFFSETTO:+0100
TZNAME:CET
DTSTART:20251026T010000
END:STANDARD
END:VTIMEZONE
BEGIN:VEVENT
DTSTART;TZID=Europe/Paris:20241105T110000
DTEND;TZID=Europe/Paris:20241106T160000
DTSTAMP:20260424T105056
CREATED:20241009T100615Z
LAST-MODIFIED:20241030T155257Z
UID:48686-1730804400-1730908800@laslar.unicaen.fr
SUMMARY:Des arts pour construire/reconstruire à partir des décombres
DESCRIPTION:Le projet intitulé « DESTRUCTION / RECONSTRUCTION » souhaite\, à partir d’expériences communes\, passées et présentes\, en l’occurrence les désastres causées sur les villes et sur les hommes\, par les conflits ou les catastrophes\, observer les discours ou les représentations qui permettent de les penser ou/et de les transformer\, afin de les surmonter\, mais aussi d’en conserver la mémoire pour les générations futures. Il entend créer une synergie d’échanges et de recherches entre les enseignants du département Arts du spectacle et membres de l’équipe de recherche Lettres Arts du spectacle Langues Romanes (LASLAR UR4256) de l’université de Caen\, et ceux de l’Institut d’études scéniques\, audiovisuelles et cinématographiques (IESAV) de l’Université Saint-Joseph de Beyrouth\, et du Laboratoire Littératures et Arts (LLA). Il est codirigé par Valérie Vignaux pour l’université de Caen Normandie\, et Ghada Sayegh pour l’université Saint-Joseph de Beyrouth\, et y participent des enseignants chercheurs ou des doctorants des deux établissements. \n\n\n\nCe colloque est la troisième manifestation organisée\, il fait suite à deux journées doctorales « Archives\, créations\, histoire »\, les 18 et 19 octobre 2023 (université de Caen) et un colloque international « Archives\, empreintes\, mémoires » les 14 et 15 décembre 2023 (Université Saint-Joseph de Beyrouth). \n\n\n\nLe projet est lauréat d’un financement PHC Cèdre (2023-2024) et a bénéficié du soutien de l’Institut Mémoires de l’édition contemporaine (IMEC – Abbaye d’Ardenne\, 14280 Saint-Germain-la-Blanche-Herbe) \n\n\n\nProgramme du colloque “Des arts pour construire/reconstruire à partir des décombres” (pdf · 775 Ko)Télécharger (pdf · 775 Ko)\n\n\n\nPour tous renseignements : catherine.bienvenu@unicaen.fr
URL:https://laslar.unicaen.fr/evenement/des-arts-pour-construire-reconstruire-a-partir-des-decombres/
LOCATION:Saint-Germain-la-Blanche-Herbe · IMEC\, IMEC\, L'Abbaye D'Ardenne\, 3 Rue Youf du Marché\, Saint-Germain-la-Blanche-Herbe\, 14280\, France
CATEGORIES:Congrès - Colloque
ORGANIZER;CN="Val%C3%A9rie VIGNAUX et Ghada SAYEGH":MAILTO:valerie.vignaux@unicaen.fr
END:VEVENT
END:VCALENDAR