BEGIN:VCALENDAR
VERSION:2.0
PRODID:-//LASLAR - Lettres Arts du spectacle Langues romanes – (UR 4256) - ECPv6.15.18//NONSGML v1.0//EN
CALSCALE:GREGORIAN
METHOD:PUBLISH
X-ORIGINAL-URL:https://laslar.unicaen.fr
X-WR-CALDESC:Évènements pour LASLAR - Lettres Arts du spectacle Langues romanes – (UR 4256)
REFRESH-INTERVAL;VALUE=DURATION:PT1H
X-Robots-Tag:noindex
X-PUBLISHED-TTL:PT1H
BEGIN:VTIMEZONE
TZID:Europe/Paris
BEGIN:DAYLIGHT
TZOFFSETFROM:+0100
TZOFFSETTO:+0200
TZNAME:CEST
DTSTART:20230326T010000
END:DAYLIGHT
BEGIN:STANDARD
TZOFFSETFROM:+0200
TZOFFSETTO:+0100
TZNAME:CET
DTSTART:20231029T010000
END:STANDARD
BEGIN:DAYLIGHT
TZOFFSETFROM:+0100
TZOFFSETTO:+0200
TZNAME:CEST
DTSTART:20240331T010000
END:DAYLIGHT
BEGIN:STANDARD
TZOFFSETFROM:+0200
TZOFFSETTO:+0100
TZNAME:CET
DTSTART:20241027T010000
END:STANDARD
BEGIN:DAYLIGHT
TZOFFSETFROM:+0100
TZOFFSETTO:+0200
TZNAME:CEST
DTSTART:20250330T010000
END:DAYLIGHT
BEGIN:STANDARD
TZOFFSETFROM:+0200
TZOFFSETTO:+0100
TZNAME:CET
DTSTART:20251026T010000
END:STANDARD
END:VTIMEZONE
BEGIN:VEVENT
DTSTART;TZID=Europe/Paris:20240530T190000
DTEND;TZID=Europe/Paris:20240530T210000
DTSTAMP:20260420T085258
CREATED:20240515T080825Z
LAST-MODIFIED:20240515T080826Z
UID:48519-1717095600-1717102800@laslar.unicaen.fr
SUMMARY:Rencontre avec Leïla SEBBAR
DESCRIPTION:Une soirée en 2 temps autour de son dernier recueil de nouvelles “J’aime l’Outre-Mer” aux éditions Traverse(S) et d’un essai de 1978 réédité aujourd’hui “On tue les petites filles” aux éditions Le Manuscrit.Une rencontre animée par Manon Paillot. \n\n\n\nAvec la participation de Sabrinelle Bedrane\, qui a réuni et présente ces nouvelles « J’aime l’Outre-Mer » \n\n\n\nAvec la participation d’Anne Schneider\, préfacière de la réédition de cet essai « On tue les petites filles » \n\n\n\n\nAffiche « Rencontre avec Leïla SEBBAR »
URL:https://laslar.unicaen.fr/evenement/rencontre-avec-leila-sebbar/
LOCATION:Paris · Librairie les Oiseaux Rares\, Librairie les Oiseaux Rares\, 1 Rue Vulpian\, Paris\, 75013\, France
CATEGORIES:Rencontre
ORGANIZER;CN="Anne SCHNEIDER et Manon PAILLOT":MAILTO:anne.schneider@unicaen.fr
END:VEVENT
END:VCALENDAR