BEGIN:VCALENDAR
VERSION:2.0
PRODID:-//LASLAR - Lettres Arts du spectacle Langues romanes – (UR 4256) - ECPv6.15.18//NONSGML v1.0//EN
CALSCALE:GREGORIAN
METHOD:PUBLISH
X-ORIGINAL-URL:https://laslar.unicaen.fr
X-WR-CALDESC:Évènements pour LASLAR - Lettres Arts du spectacle Langues romanes – (UR 4256)
REFRESH-INTERVAL;VALUE=DURATION:PT1H
X-Robots-Tag:noindex
X-PUBLISHED-TTL:PT1H
BEGIN:VTIMEZONE
TZID:Europe/Paris
BEGIN:DAYLIGHT
TZOFFSETFROM:+0100
TZOFFSETTO:+0200
TZNAME:CEST
DTSTART:20230326T010000
END:DAYLIGHT
BEGIN:STANDARD
TZOFFSETFROM:+0200
TZOFFSETTO:+0100
TZNAME:CET
DTSTART:20231029T010000
END:STANDARD
BEGIN:DAYLIGHT
TZOFFSETFROM:+0100
TZOFFSETTO:+0200
TZNAME:CEST
DTSTART:20240331T010000
END:DAYLIGHT
BEGIN:STANDARD
TZOFFSETFROM:+0200
TZOFFSETTO:+0100
TZNAME:CET
DTSTART:20241027T010000
END:STANDARD
BEGIN:DAYLIGHT
TZOFFSETFROM:+0100
TZOFFSETTO:+0200
TZNAME:CEST
DTSTART:20250330T010000
END:DAYLIGHT
BEGIN:STANDARD
TZOFFSETFROM:+0200
TZOFFSETTO:+0100
TZNAME:CET
DTSTART:20251026T010000
END:STANDARD
END:VTIMEZONE
BEGIN:VEVENT
DTSTART;TZID=Europe/Paris:20240404T170000
DTEND;TZID=Europe/Paris:20240404T190000
DTSTAMP:20260421T231350
CREATED:20240314T103139Z
LAST-MODIFIED:20250221T082521Z
UID:48430-1712250000-1712257200@laslar.unicaen.fr
SUMMARY:Écofictions\, Anthropocène et création artistique : figurations\, récits\, discours
DESCRIPTION:Nouvelle séance avec la participation de : Philippe Ortoli – « Penser les ruines : quels mondes d’après dans les séries télévisées contemporaines ? » \n\n\n\nRésumé : \n\n\n\nPenser le désastre pour mieux prévenir l’éventualité de son émergence : s’il s’agit bien d’une des directions possibles empruntées par l’Anticipation au sens large\, on pourrait penser que l’inflation des séries télévisées prenant comme objet l’après-apocalypse (ou ce qui y ressemble\, c’est-à-dire la destruction avérée du monde tel que nous le connaissons) chercherait d’une certaine manière à corriger ce que remarque Andrea Grunther\, à savoir que «  La question cruciale du dérèglement climatique n’a pas réussi à s’incarner dans une iconographie mobilisatrice ou convaincante. ». Si les ouvrages de Chelebourg ou d’Andrevon\, entre autres\, tendent à creuser la question\, le sujet de notre communication\, lui\, s’interrogera uniquement sur la capacité spécifique qu’a le dispositif de certaines narrations sérielles audiovisuelles (termes sur lesquels nous nous interrogerons) à envisager une vie humaine après la catastrophe (climatique ou scientifique). A travers des exemples précis et contemporains (The Walking Dead\, Black Summer\, The last of us)\, il s’agira\, à la fois\, de mesurer ce qui sépare ces visions futuristes de celles qui ont déjà nourri les prophéties télévisuelles antérieures (La quatrième dimension\, par exemple)\, et de réfléchir à la manière dont\, par leur forme propre\, ces productions participent de la création d’un imaginaire de l’anthropocène. \n\n\n\nBibliographie sommaire : \n\n\n\nAndrévon\, Jean-Pierre\, Récits de l’Apocalypse : Catastrophes\, cataclysmes et fins du monde dans la littérature et au cinéma\, Paris\, Editions Vendémiaire\, 2021. \n\n\n\nChelebourg\, Christian\, Les écofictions- mythologies de la fin du monde\, Bruxelles\, Les Impressions Nouvelles (« Réflexions faites »)\, 2012. \n\n\n\nEngélibert\, Jean-Paul\, Fabuler la fin du monde-la puissance critique des fictions d’apocalypse\, Paris : La Découverte (« L’Horizon des possibles »)\, 2019. \n\n\n\nGunthert\, Andrea\, « Réchauffement climatique: des images impuissantes »\, in L’Image sociale\, 4 décembre 2015\, consulté le 10 mars 2024\, https://imagesociale.fr/2454. \n\n\n\nPézard\, Emilie\, « L’avenir dans la généricité du « récit d’anticipation » »\, Belphégor [En ligne]\, 21-1 | 2023\, mis en ligne le 24 avril 2023\, consulté le 10 mars 2024. URL : http://journals.openedition.org/belphegor/5359 ; DOI : https://doi.org/10.4000/belphegor.5359. \n\n\n\n Philippe Ortoli est Professeur des universités en études cinématographiques à l’Université de Caen. Il a également enseigné à Paris VII\, Poitiers\, Aix-Marseille I\, Lyon 2\, en Corse et est l’auteur de nombreux articles et d’ouvrages. Il vient de co-diriger avec Jean-Baptiste Carobolante L’image hantée : le cinéma et les séries télévisées d’épouvante américains contemporains (1999-2019)\, sorti en janvier 2024 chez Peter Lang.
URL:https://laslar.unicaen.fr/evenement/ecofictions-anthropocene-et-creation-artistique-figurations-recits-discours-3/
LOCATION:Caen · Campus 1 · Maison de la recherche en sciences humaines (MRSH) · Salle des Thèses (SH028)\, Campus 1\, Maison de la recherche en sciences humaines (MRSH)\, 1 Esplanade de la Paix\, Caen\, 14000\, France
CATEGORIES:Séminaire
ORGANIZER;CN="Margarita RAILLARD et Anouck LINCK":MAILTO:margarita.raillard@unicaen.fr
END:VEVENT
END:VCALENDAR