BEGIN:VCALENDAR
VERSION:2.0
PRODID:-//LASLAR - Lettres Arts du spectacle Langues romanes – (UR 4256) - ECPv6.15.18//NONSGML v1.0//EN
CALSCALE:GREGORIAN
METHOD:PUBLISH
X-WR-CALNAME:LASLAR - Lettres Arts du spectacle Langues romanes – (UR 4256)
X-ORIGINAL-URL:https://laslar.unicaen.fr
X-WR-CALDESC:Évènements pour LASLAR - Lettres Arts du spectacle Langues romanes – (UR 4256)
REFRESH-INTERVAL;VALUE=DURATION:PT1H
X-Robots-Tag:noindex
X-PUBLISHED-TTL:PT1H
BEGIN:VTIMEZONE
TZID:Europe/Paris
BEGIN:DAYLIGHT
TZOFFSETFROM:+0100
TZOFFSETTO:+0200
TZNAME:CEST
DTSTART:20230326T010000
END:DAYLIGHT
BEGIN:STANDARD
TZOFFSETFROM:+0200
TZOFFSETTO:+0100
TZNAME:CET
DTSTART:20231029T010000
END:STANDARD
BEGIN:DAYLIGHT
TZOFFSETFROM:+0100
TZOFFSETTO:+0200
TZNAME:CEST
DTSTART:20240331T010000
END:DAYLIGHT
BEGIN:STANDARD
TZOFFSETFROM:+0200
TZOFFSETTO:+0100
TZNAME:CET
DTSTART:20241027T010000
END:STANDARD
BEGIN:DAYLIGHT
TZOFFSETFROM:+0100
TZOFFSETTO:+0200
TZNAME:CEST
DTSTART:20250330T010000
END:DAYLIGHT
BEGIN:STANDARD
TZOFFSETFROM:+0200
TZOFFSETTO:+0100
TZNAME:CET
DTSTART:20251026T010000
END:STANDARD
END:VTIMEZONE
BEGIN:VEVENT
DTSTART;TZID=Europe/Paris:20240117T090000
DTEND;TZID=Europe/Paris:20240117T180000
DTSTAMP:20260422T195436
CREATED:20230911T090709Z
LAST-MODIFIED:20240109T091521Z
UID:47961-1705482000-1705514400@laslar.unicaen.fr
SUMMARY:Le cri dans les arts du spectacle et les lettres
DESCRIPTION:Ces deux journées d’études s’inscrivent dans un cycle de recherche dont le but est de penser le cri dans les arts du spectacle et les lettres à travers plusieurs approches ;historique et sociopolitique\, esthétique et figurative\, thématique et actorale. Après une journée inaugurale consacrée aux perspectives historiques et sociopolitiques du cri\, cette deuxième et troisième journées d’étude du mercredi 8 novembre 2023 et mercredi 17 janvier 2024 à l’Université de Caen Normandie privilégieront une approche esthétique. Il s’agira de porter la réflexion sur les options de figuration et de stylisation que le cri inspire aux metteurs en scène (théâtre et cinéma) et aux écrivains. Soudain traversé par des émotions extrêmes\, le corps produit jusqu’au visage\, siège palpable de leur intensité\, la sonorisation déchirante de leur épanchement. Dans l’instant du cri\, l’artiste cherche à créer une forme fondée sur l’excès des limites\, celles de son matériau\, mais aussi celles de la conscience et de la raison. \n\n\n\n\nJournée d’études « Le cri dans les arts du spectacle et les lettres »
URL:https://laslar.unicaen.fr/evenement/le-cri-dans-les-arts-du-spectacle-et-les-lettres-2/
LOCATION:Caen · Campus 1 · Maison de la recherche en sciences humaines (MRSH) · Amphi\, Campus 1\, Maison de la recherche en sciences humaines (MRSH)\, 1 Esplanade de la Paix\, Caen\, 14000\, France
CATEGORIES:Journée d'étude
ORGANIZER;CN="David VASSE%2C Yann CALVET et H%C3%A9l%C3%A8ne FRAZIK":MAILTO:david.vasse@unicaen.fr
END:VEVENT
END:VCALENDAR