BEGIN:VCALENDAR
VERSION:2.0
PRODID:-//LASLAR - Lettres Arts du spectacle Langues romanes – (UR 4256) - ECPv6.15.18//NONSGML v1.0//EN
CALSCALE:GREGORIAN
METHOD:PUBLISH
X-ORIGINAL-URL:https://laslar.unicaen.fr
X-WR-CALDESC:Évènements pour LASLAR - Lettres Arts du spectacle Langues romanes – (UR 4256)
REFRESH-INTERVAL;VALUE=DURATION:PT1H
X-Robots-Tag:noindex
X-PUBLISHED-TTL:PT1H
BEGIN:VTIMEZONE
TZID:Europe/Paris
BEGIN:DAYLIGHT
TZOFFSETFROM:+0100
TZOFFSETTO:+0200
TZNAME:CEST
DTSTART:20220327T010000
END:DAYLIGHT
BEGIN:STANDARD
TZOFFSETFROM:+0200
TZOFFSETTO:+0100
TZNAME:CET
DTSTART:20221030T010000
END:STANDARD
BEGIN:DAYLIGHT
TZOFFSETFROM:+0100
TZOFFSETTO:+0200
TZNAME:CEST
DTSTART:20230326T010000
END:DAYLIGHT
BEGIN:STANDARD
TZOFFSETFROM:+0200
TZOFFSETTO:+0100
TZNAME:CET
DTSTART:20231029T010000
END:STANDARD
BEGIN:DAYLIGHT
TZOFFSETFROM:+0100
TZOFFSETTO:+0200
TZNAME:CEST
DTSTART:20240331T010000
END:DAYLIGHT
BEGIN:STANDARD
TZOFFSETFROM:+0200
TZOFFSETTO:+0100
TZNAME:CET
DTSTART:20241027T010000
END:STANDARD
END:VTIMEZONE
BEGIN:VEVENT
DTSTART;TZID=Europe/Paris:20231110T100000
DTEND;TZID=Europe/Paris:20231110T130000
DTSTAMP:20260424T092758
CREATED:20231107T091020Z
LAST-MODIFIED:20231107T091022Z
UID:48055-1699610400-1699621200@laslar.unicaen.fr
SUMMARY:Autour de David et Jonathas
DESCRIPTION:AUTOUR DE DAVID ET JONATHAS Ensemble Correspondances\, direction Sébastien DaucéMise en scène Jean Bellorini\, compositeur Marc-Antoine Charpentier \n\n\n\nPourquoi et comment représenter le répertoire baroque sur les scènes contemporaines ? Peut-on imaginer à partir de lui d’autres formes lyriques ? Quelles histoires raconter à travers celles-ci ?Pour répondre à ces questions\, des chercheurs des universités de Caen et de Rouen ont mis en place\, depuis 2019\, un cycle de journées « Baroque au présent » autour des créations données au Théâtre de Caen.La quatrième journée de discussion et de rencontres est consacrée à David et Jonathas\, direction Sébastien Daucé\, Ensemble Correspondances ; mise en scène Jean Bellorini. \n\n\n\n\nProgramme « AUTOUR DE DAVID ET JONATHAS »
URL:https://laslar.unicaen.fr/evenement/autour-de-david-et-jonathas/
LOCATION:Caen · Foyers du théâtre de Caen\, Théâtre de Caen\, 135 Boulevard Maréchal Leclerc\, Caen\, 14000\, France
CATEGORIES:Journée d'étude
END:VEVENT
END:VCALENDAR