BEGIN:VCALENDAR
VERSION:2.0
PRODID:-//LASLAR - Lettres Arts du spectacle Langues romanes – (UR 4256) - ECPv6.15.18//NONSGML v1.0//EN
CALSCALE:GREGORIAN
METHOD:PUBLISH
X-WR-CALNAME:LASLAR - Lettres Arts du spectacle Langues romanes – (UR 4256)
X-ORIGINAL-URL:https://laslar.unicaen.fr
X-WR-CALDESC:Évènements pour LASLAR - Lettres Arts du spectacle Langues romanes – (UR 4256)
REFRESH-INTERVAL;VALUE=DURATION:PT1H
X-Robots-Tag:noindex
X-PUBLISHED-TTL:PT1H
BEGIN:VTIMEZONE
TZID:Europe/Paris
BEGIN:DAYLIGHT
TZOFFSETFROM:+0100
TZOFFSETTO:+0200
TZNAME:CEST
DTSTART:20220327T010000
END:DAYLIGHT
BEGIN:STANDARD
TZOFFSETFROM:+0200
TZOFFSETTO:+0100
TZNAME:CET
DTSTART:20221030T010000
END:STANDARD
BEGIN:DAYLIGHT
TZOFFSETFROM:+0100
TZOFFSETTO:+0200
TZNAME:CEST
DTSTART:20230326T010000
END:DAYLIGHT
BEGIN:STANDARD
TZOFFSETFROM:+0200
TZOFFSETTO:+0100
TZNAME:CET
DTSTART:20231029T010000
END:STANDARD
BEGIN:DAYLIGHT
TZOFFSETFROM:+0100
TZOFFSETTO:+0200
TZNAME:CEST
DTSTART:20240331T010000
END:DAYLIGHT
BEGIN:STANDARD
TZOFFSETFROM:+0200
TZOFFSETTO:+0100
TZNAME:CET
DTSTART:20241027T010000
END:STANDARD
END:VTIMEZONE
BEGIN:VEVENT
DTSTART;TZID=Europe/Paris:20230922T140000
DTEND;TZID=Europe/Paris:20230922T170000
DTSTAMP:20260424T012503
CREATED:20230911T081701Z
LAST-MODIFIED:20230912T074113Z
UID:47940-1695391200-1695402000@laslar.unicaen.fr
SUMMARY:Séminaire d’exploration du fonds d’archives de Jean-Pierre et Luc Dardenne à l’IMEC
DESCRIPTION:Déposé à l’IMEC en juillet 2020\, le fonds d’archives de Jean-Pierre et Luc Dardenne dédié à leurcréation incite à son exploration tant leur cinéma témoigne indissociablement d’une esthétique etd’une méthode affirmées\, faites de persévérance\, de reprises et de repentirs (comme on le dit enpeinture) Ce fonds rassemble quantité de documents de travail (dossiers d’enquête\, notesd’intention\, versions multiples de scénarios\, scénarios de films non tournés\, notes de casting\,photographies et contrats\, etc.) qui éclairent sur l’œuvre dans son ensemble : sur la créationdocumentaire autant que fictionnelle des Dardenne. Ce fonds d’archives très riche\, classé etinventorié par l’IMEC\, appelle une recherche elle-même persévérante\, à la hauteur d’une pratiquedu cinéma farouchement personnelle conjuguant philosophie et gestes de terrain (enquête\,entretiens\, repérages\, etc.).Ce séminaire porté par le Laslar (Laboratoire de recherche de l’université de CaenNormandie)\, le Centre d’études et de recherches comparées sur la création (ENS Lyon)\, le PLH(laboratoire Patrimoine\, Littérature\, Histoire de l’Université de Toulouse Jean Jaurès)\, la directionde la recherche de l’ENS Louis-Lumière et l’Institut Acte (Université Paris 1 Panthéon-Sorbonne)\, en partenariat avec l’IMEC\, et le Café des images d’Hérouville Saint-Clair vise àl’exploration collective de ce fonds. Il accueillera des présentations et discussions de travaux deschercheurs basés sur l’étude de ce fonds ou qui permettent de l’éclairer de l’extérieur. Il réunirades spécialistes du cinéma des frères Dardenne\, chercheurs exerçant en France et en Belgiquedans un premier temps\, et des chercheurs inscrits dans des champs disciplinaires que leur cinémaquestionne (philosophie\, sociologie\, théâtre\, sciences politiques\, etc.).L’exploration et lavalorisation collective du fonds d’archives dans le cadre de ce séminaire constitue le socle d’unprogramme de recherche plus large qui comprendra colloque et publications\, et s’étendrajusqu’en 2024-2025.Les vendredis à 14h\, à l’IMEC (Abbaye d’Ardennes)Séminaire le cinéma des frères-dardenne · site de l’IMECLe séminaire se tient en hybride : à l’abbaye d’Ardennes et sur zoom. Lien de connexion sur demande. \n\n\n\n\n\n\nIntervention de Dominique Nasta : « Le ‘pathos contrôlé’ et la bande-son des films des frères Dardenne : bruits\, voix\, musiques\, chansons »\nDominique Nasta est Professeure ordinaire en études cinématographiques à l’Université Librede Bruxelles. Elle dirige le Master en arts du spectacle et a été Professeure invitée aux Universitésde Montréal (2013)\, Strasbourg (2015) et Buenos Aires (2019). Elle a publié plusieurs ouvrages àtitre de seul auteur ou en co-édition dont : Meaning in Film : Relevant Structures in Soundtrack andNarrative (1992)\, Contemporary Romanian Cinema : The History of an Unexpected Miracle (2013)\, Le son en perspective : nouvelles recherches (2004)\, Le Mélodrame filmique revisité (2014) et La chanson dans les cinémas d’Europe et d’Amérique Latine 1960-2010 (2019). Elle a consacré de nombreux travaux à l’étude les émotions et de la musique au cinéma\, aux cinémas d’Europe de l’Est\, à l’esthétique des mélodrames muets\, aux Européens dans le cinéma Hollywoodien ainsi qu’au cinéma d’Antonioni.Dominique Nasta a publié plusieurs articles et chapitres de dictionnaires et/ou d’ouvragescollectifs sur cinéma des frères Dardenne : elle a également a dirigé plusieurs travaux de find’études consacrés à leur cinéma\, tout en collaborant depuis plus de 25 ans avec Luc Dardenne\,qui a dispensé un cours et un atelier d’écriture de scénario au sein du Master qu’elle coordonne.Alors qu’une assez abondante littérature existe déjà autour de l’œuvre des frères Dardenne\,l’étude de la bande-son de leurs films n’a été approchée que de manière périphérique\, les exégèses se focalisant surtout sur les problématiques sociales empreintes d’humanisme et abordées sans concession\, ainsi que sur le minimalisme radical d’une mise en scène visuelle d’une rigueur résolument bresonnienne. Mais les films des Frères s’écoutent autant et parfois même de manière plus intense qu’ils ne se regardent\, ils font entendre les rumeurs\, les cris\, les (rares) musiques et les chansons d’êtres qui vibrent avec une intensité peu commune\, à la faveur de ce que nous avons défini comme étant une forme de « pathos contrôlé ». \n\n\n\n\nIntervention d’Élise Domenach « Enquête\, fiction et documentaire dans le cinéma des frères Dardenne. L’ancrage méthodologique des vidéosdocumentaires de l’ASBL Dérives »\nÉlise Domenach est Professeure d’études cinématographiques et directrice de la recherche àl’ENS Louis-Lumière. Elle est l’autrice de nombreuses communications depuis 2011 sur lecinéma des Dardenne (en France\, en Espagne\, aux États-Unis\, en Roumanie\, au Japon\, enChine…). Curatrice en 2014 du programme « Sur la carte de Jean-Pierre et Luc Dardenne » auFestival International du Film de Fribourg elle a publié la même année « Le paradoxe de la voix.‘Cité de paroles’\, silence et voix dans les vidéos documentaires et les fictions de Jean-Pierre et LucDardenne » (Entrelacs n°11\, p.1-22). Elle a réalisé de nombreux entretiens avec les frèresDardenne\, publié de nombreuses critiques de leurs films dans les revues Esprit et Positif\, et éditédes textes de Luc Dardenne dans Entrelacs et dans L’Écran de nos pensées. Stanley Cavell\, le cinéma et la philosophie (ENS Éditions\, 2021\, dir. É. Domenach). \n\n\n\nLe cinéma des frères Dardenne s’est installé dans le champ de la fiction depuis La Promesse (1996)\, et avant cela Je pense à vous (1992) et Falsch (1988). Leur cinéma de fiction se caractérise par un rapport très étroit au monde contemporain : à l’époque et aux espaces de vie des créateurs (la région de Seraing et les enjeux sociaux qui traversent cette région : immigration\, pauvreté\, démantèlement des hauts fourneaux\, trafics de drogue\, délinquance\, radicalisation\, etc.). Le travail sur le fonds d’archives de l’IMEC permet de mettre au jour une méthode d’enquête qui ancre leur cinéma dans une étude et une compréhension intime de leur société. Nous présenterons dans cette intervention quelques enseignements du fonds d’archives\, en particulier concernant la manière dont cette méthode d’écriture et de réalisation fictionnelle s’ancre dans la pratique de la vidéo documentaire au sein du collectif Dérives à la fin des années 1970 et au début des années 1980. En nous penchant sur les films et sur les dossiers les concernant dans le fonds de l’IMEC\, nous reviendrons ainsi sur les complexités de la méthode fictionnelle des Dardenne\, sur la base de cette réévaluation de leur ancrage dans l’enquête documentaire\, pour mieux comprendre le « protocole d’éthique documentaire » qui se dégage de leur cinéma dans son ensemble.
URL:https://laslar.unicaen.fr/evenement/seminaire-dexploration-du-fonds-darchives-de-jean-pierre-et-luc-dardenne-a-limec/
LOCATION:Saint-Germain-la-Blanche-Herbe · IMEC\, IMEC\, L'Abbaye D'Ardenne\, 3 Rue Youf du Marché\, Saint-Germain-la-Blanche-Herbe\, 14280\, France
CATEGORIES:Séminaire
ORGANIZER;CN="David VASSE%2C Yann CALVET et H%C3%A9l%C3%A8ne FRAZIK":MAILTO:david.vasse@unicaen.fr
END:VEVENT
END:VCALENDAR