BEGIN:VCALENDAR
VERSION:2.0
PRODID:-//LASLAR - Lettres Arts du spectacle Langues romanes – (UR 4256) - ECPv6.15.18//NONSGML v1.0//EN
CALSCALE:GREGORIAN
METHOD:PUBLISH
X-ORIGINAL-URL:https://laslar.unicaen.fr
X-WR-CALDESC:Évènements pour LASLAR - Lettres Arts du spectacle Langues romanes – (UR 4256)
REFRESH-INTERVAL;VALUE=DURATION:PT1H
X-Robots-Tag:noindex
X-PUBLISHED-TTL:PT1H
BEGIN:VTIMEZONE
TZID:Europe/Paris
BEGIN:DAYLIGHT
TZOFFSETFROM:+0100
TZOFFSETTO:+0200
TZNAME:CEST
DTSTART:20220327T010000
END:DAYLIGHT
BEGIN:STANDARD
TZOFFSETFROM:+0200
TZOFFSETTO:+0100
TZNAME:CET
DTSTART:20221030T010000
END:STANDARD
BEGIN:DAYLIGHT
TZOFFSETFROM:+0100
TZOFFSETTO:+0200
TZNAME:CEST
DTSTART:20230326T010000
END:DAYLIGHT
BEGIN:STANDARD
TZOFFSETFROM:+0200
TZOFFSETTO:+0100
TZNAME:CET
DTSTART:20231029T010000
END:STANDARD
BEGIN:DAYLIGHT
TZOFFSETFROM:+0100
TZOFFSETTO:+0200
TZNAME:CEST
DTSTART:20240331T010000
END:DAYLIGHT
BEGIN:STANDARD
TZOFFSETFROM:+0200
TZOFFSETTO:+0100
TZNAME:CET
DTSTART:20241027T010000
END:STANDARD
END:VTIMEZONE
BEGIN:VEVENT
DTSTART;TZID=Europe/Paris:20230323T090000
DTEND;TZID=Europe/Paris:20230323T170000
DTSTAMP:20260422T082302
CREATED:20230215T081756Z
LAST-MODIFIED:20230215T081756Z
UID:19372-1679562000-1679590800@laslar.unicaen.fr
SUMMARY:Cycle Appréhender le genre en histoire culturelle du cinéma
DESCRIPTION:Responsable(s) scientifique(s) : Gabrielle Chomentowski (CNRS)\, Myriam Juan (Caen)\, Mélisande Leventopoulos (Paris 8)\, Stéphanie E. Louis (ENC)\, Guillaume Vernet (Paris 1) \nCe nouveau cycle du séminaire propose de se pencher sur les enjeux méthodologiques\, épistémologiques et heuristiques afférents à l’usage de la notion de genre (gender) en histoire culturelle du cinéma. Ouvert par vocation au dialogue avec d’autres approches\, le séminaire proposera d’appréhender le genre depuis l’histoire culturelle du cinéma mais aussi avec celle-ci\, dans le cadre de recherches pouvant s’inscrire dans d’autres perspectives. \nContact : catherine.bienvenu@unicaen.fr
URL:https://laslar.unicaen.fr/evenement/cycle-apprehender-le-genre-en-histoire-culturelle-du-cinema/
LOCATION:Paris · Institut National d’Histoire de l’Art (INHA)\, Institut national d'histoire de l'art\, 2 Rue Vivienne\, Paris\, 75002\, France
CATEGORIES:Séminaire
END:VEVENT
END:VCALENDAR