BEGIN:VCALENDAR
VERSION:2.0
PRODID:-//LASLAR - Lettres Arts du spectacle Langues romanes – (UR 4256) - ECPv6.15.18//NONSGML v1.0//EN
CALSCALE:GREGORIAN
METHOD:PUBLISH
X-ORIGINAL-URL:https://laslar.unicaen.fr
X-WR-CALDESC:Évènements pour LASLAR - Lettres Arts du spectacle Langues romanes – (UR 4256)
REFRESH-INTERVAL;VALUE=DURATION:PT1H
X-Robots-Tag:noindex
X-PUBLISHED-TTL:PT1H
BEGIN:VTIMEZONE
TZID:Europe/Paris
BEGIN:DAYLIGHT
TZOFFSETFROM:+0100
TZOFFSETTO:+0200
TZNAME:CEST
DTSTART:20220327T010000
END:DAYLIGHT
BEGIN:STANDARD
TZOFFSETFROM:+0200
TZOFFSETTO:+0100
TZNAME:CET
DTSTART:20221030T010000
END:STANDARD
BEGIN:DAYLIGHT
TZOFFSETFROM:+0100
TZOFFSETTO:+0200
TZNAME:CEST
DTSTART:20230326T010000
END:DAYLIGHT
BEGIN:STANDARD
TZOFFSETFROM:+0200
TZOFFSETTO:+0100
TZNAME:CET
DTSTART:20231029T010000
END:STANDARD
BEGIN:DAYLIGHT
TZOFFSETFROM:+0100
TZOFFSETTO:+0200
TZNAME:CEST
DTSTART:20240331T010000
END:DAYLIGHT
BEGIN:STANDARD
TZOFFSETFROM:+0200
TZOFFSETTO:+0100
TZNAME:CET
DTSTART:20241027T010000
END:STANDARD
END:VTIMEZONE
BEGIN:VEVENT
DTSTART;TZID=Europe/Paris:20230314T090000
DTEND;TZID=Europe/Paris:20230314T170000
DTSTAMP:20260421T105037
CREATED:20230705T091654Z
LAST-MODIFIED:20230705T091655Z
UID:19848-1678784400-1678813200@laslar.unicaen.fr
SUMMARY:Poppart
DESCRIPTION:Le groupe de réflexion POPPART vise à rassembler chercheuses et chercheurs intéressé(e)s pour réfléchir ensemble à l’histoire\, aux formes\, aux enjeux des relations entre la pop culture et l’industrie cinématographique. \n\n\n\nLe groupe de réflexion POPPART vise à rassembler chercheuses et chercheurs intéressé(e)s pour réfléchir ensemble à l’histoire\, aux formes\, aux enjeux des relations entre la pop culture et l’industrie cinématographique. Il est initié et piloté par trois chercheurs : Fabien Delmas\, maître de conférences en études cinématographiques et audiovisuelles à l’Université Paris-Est Marne-la-Vallée\, membre de l’équipe Confluences Cinématographiques\, Audiovisuelles\, Musicales et Arts Numériques (CCAMAN) ; Alexandros Tsopotos\, docteur en études cinématographiques et enseignant et Hélène Valmary\, maître de conférences en études cinématographiques et audiovisuelles à l’Université de Caen Normandie\, membre du LASLAR. \n\n\n\n\n10h : L’intertextualité dans les films amateurs de Star Wars réalisés entre 1997 et 2006\, entre mondes parallèles et univers interconnectés (Adrien Débart\, UNICAEN)\n\n\n\n11h20 : Chaque coup de canon est une douce mélodie à mes oreilles. Hybridités musicales et sonores dans le cinéma mainstream contemporain (Chloé Huvet\, ENS Lyon)\n\n\n\n\nAffiche Poppart
URL:https://laslar.unicaen.fr/evenement/poppart/
LOCATION:Caen · Campus 1 · Maison de la recherche en sciences humaines (MRSH) · Salle des Actes (SH027)\, Campus 1\, Maison de la recherche en sciences humaines (MRSH)\, 1 Esplanade de la Paix\, Caen\, 14000\, France
CATEGORIES:Journée d'étude
END:VEVENT
END:VCALENDAR