BEGIN:VCALENDAR
VERSION:2.0
PRODID:-//LASLAR - Lettres Arts du spectacle Langues romanes – (UR 4256) - ECPv6.15.18//NONSGML v1.0//EN
CALSCALE:GREGORIAN
METHOD:PUBLISH
X-ORIGINAL-URL:https://laslar.unicaen.fr
X-WR-CALDESC:Évènements pour LASLAR - Lettres Arts du spectacle Langues romanes – (UR 4256)
REFRESH-INTERVAL;VALUE=DURATION:PT1H
X-Robots-Tag:noindex
X-PUBLISHED-TTL:PT1H
BEGIN:VTIMEZONE
TZID:Europe/Paris
BEGIN:DAYLIGHT
TZOFFSETFROM:+0100
TZOFFSETTO:+0200
TZNAME:CEST
DTSTART:20220327T010000
END:DAYLIGHT
BEGIN:STANDARD
TZOFFSETFROM:+0200
TZOFFSETTO:+0100
TZNAME:CET
DTSTART:20221030T010000
END:STANDARD
BEGIN:DAYLIGHT
TZOFFSETFROM:+0100
TZOFFSETTO:+0200
TZNAME:CEST
DTSTART:20230326T010000
END:DAYLIGHT
BEGIN:STANDARD
TZOFFSETFROM:+0200
TZOFFSETTO:+0100
TZNAME:CET
DTSTART:20231029T010000
END:STANDARD
BEGIN:DAYLIGHT
TZOFFSETFROM:+0100
TZOFFSETTO:+0200
TZNAME:CEST
DTSTART:20240331T010000
END:DAYLIGHT
BEGIN:STANDARD
TZOFFSETFROM:+0200
TZOFFSETTO:+0100
TZNAME:CET
DTSTART:20241027T010000
END:STANDARD
END:VTIMEZONE
BEGIN:VEVENT
DTSTART;TZID=Europe/Paris:20230130T183000
DTEND;TZID=Europe/Paris:20230130T220000
DTSTAMP:20260421T192933
CREATED:20221216T080400Z
LAST-MODIFIED:20221216T080747Z
UID:19092-1675103400-1675116000@laslar.unicaen.fr
SUMMARY:Si et seulement si
DESCRIPTION:Responsable(s) scientifique(s) : Médéric Legros \n\n\n« OUTILS : Jouer est un artisanat » \ndu lundi 30 janvier au vendredi 3 février 2023 – université de Caen Normandie\n\nSéminaire pratique mené par « La fabrique autonome des acteurs »\, organisé par le laboratoire LASLAR\, l’UFR Humanités et Sciences sociales et le Pôle Culture de l’Université de Caen\, et coordonné par Médéric Legros (metteur en scène et enseignant associé au département des Arts du spectacle\, Caen-Normandie\, LASLAR).\n\nDepuis sa création\, la fabrique autonome des acteurs (faa.) travaille à extraire de ses coopérations avec d’autres disciplines (arts martiaux\, danse\, chant\, rap\, mais aussi éthologie\, neurosciences\, trapèze ou jeu de rôle) des outils\, que les actrices appliquent au jeu comme les menuisières au bois. Utilisés sur une scène déjà créée\, les outils la transforment\, entrent en réaction avec elle et lui permettent de rester vivante\, ils sortent actrices et acteurs de leurs chemins habituels\, les obligent à se situer\, à jouer au présent. Utilisés pour créer une scène\, ils font barrage aux clichés\, déploient les potentiels et engendrent surprise et intérêt.\n\nCe séminaire propose de transmettre aux étudiants certains des outils issus de ces diverses rencontres interdisciplinaires. Autant de protocoles artisanaux qui permettent aux actrices et acteurs de travailler dans une réelle autonomie.\n\n\nSi et seulement si (45 mins) – Spectacle – Juliette Salmon\nActrice-chercheuse\, chercheuse-actrice\, elle vient partager son obsession : les protocoles. Ces ensembles de règles qui permettent d’agir\, elle\, elle en raffole. Neurosciences\, éthologie\, arts de la scène\, elle vient raconter quelques-unes des recherches de la faa. à la première personne. Mise en jeu par D’ de Kabal\, elle s’embarque dans un récit semé d’embûches. Est-ce que l’entraînement spécifique d’une actrice développe ses capacités empathiques ? Est-ce que l’être humain comme la plupart des mammifères et même des vertébrés\, adopte un biais gauche face à une situation hostile et un biais droit face à une situation amicale ? Quels outils pour les actrices ? Une course contre la montre pour poser les questions et tenter d’y répondre\, où l’enjeu est de retomber sur ses pattes. Musique\, rythmique\, entre conférence et performance\, Si et seulement si invite à une plongée dans les méandres de la recherche transdisciplinaire. Une ode au travail par le travail\, un manifeste pour une pratique différente du métier d’actrice.\n\nTable ronde – 1h15\nAvec Daria Lippi (actrice/chercheuse/metteur en scène/auteur)\, Virginie Vaillant (actrice/chercheuse) et Juliette Salmon (actrice/chercheuse)\, membres de La fabrique autonome des acteurs\nAnimée par Médéric Legros (metteur en scène et enseignant associé au département des Arts du spectacle de l’Université de Caen-Normandie\, membre du LASLAR)\n\nJouer est un métier. Et même\, pour nous\, un artisanat.\n\nUn artisanat qui a traversé de grands changements et\, en route\, a gagné en diversité individuelle et perdu ses bases communes. Nous sommes dans la situation d’un menuisier\, d’un maçon\, d’un ferronnier qui devraient redécouvrir tous seuls à quoi servent la scie égoïne ou la truelle plate.\nÀ la différence des autres artistes de la scène\, nous\, actrices et acteurs\, ne partageons quasiment pas de vocabulaire commun\, ne définissons que très peu nos outils et n’avons pratiquement pas l’occasion d’apprendre de nos pairs. Nous sommes aussi les seules à ne pas avoir une culture de l’entraînement régulier\, individuel ou collectif.\n\nQu’est-ce qu’un outil ? Pourquoi et comment faire de la recherche transdisciplinaire ? Quelle posture pour l’actrice-chercheuse ? Faire pratique et faire théorie ? Un entraînement d’acteur\, d’actrice\, mais pour quoi faire ? Autant de questions pour lancer les échanges et explorer ensemble LA question : que fait l’actrice\, que fait l’acteur ?\n\n\nContact : catherine.bienvenu@unicaen.fr
URL:https://laslar.unicaen.fr/evenement/si-et-seulement-si/
LOCATION:Caen · Campus 1 · Maison de l’étudiant (MDE)\, Maison de l'étudiant Université de Caen\, Rue Colonel Usher\, Caen\, 14000\, France
CATEGORIES:Séminaire
ATTACH;FMTTYPE=image/jpeg:https://laslar.unicaen.fr/wp-content/uploads/sites/36/2022/12/Troupe.jpg
END:VEVENT
END:VCALENDAR