BEGIN:VCALENDAR
VERSION:2.0
PRODID:-//LASLAR - Lettres Arts du spectacle Langues romanes – (UR 4256) - ECPv6.15.18//NONSGML v1.0//EN
CALSCALE:GREGORIAN
METHOD:PUBLISH
X-ORIGINAL-URL:https://laslar.unicaen.fr
X-WR-CALDESC:Évènements pour LASLAR - Lettres Arts du spectacle Langues romanes – (UR 4256)
REFRESH-INTERVAL;VALUE=DURATION:PT1H
X-Robots-Tag:noindex
X-PUBLISHED-TTL:PT1H
BEGIN:VTIMEZONE
TZID:Europe/Paris
BEGIN:DAYLIGHT
TZOFFSETFROM:+0100
TZOFFSETTO:+0200
TZNAME:CEST
DTSTART:20210328T010000
END:DAYLIGHT
BEGIN:STANDARD
TZOFFSETFROM:+0200
TZOFFSETTO:+0100
TZNAME:CET
DTSTART:20211031T010000
END:STANDARD
BEGIN:DAYLIGHT
TZOFFSETFROM:+0100
TZOFFSETTO:+0200
TZNAME:CEST
DTSTART:20220327T010000
END:DAYLIGHT
BEGIN:STANDARD
TZOFFSETFROM:+0200
TZOFFSETTO:+0100
TZNAME:CET
DTSTART:20221030T010000
END:STANDARD
BEGIN:DAYLIGHT
TZOFFSETFROM:+0100
TZOFFSETTO:+0200
TZNAME:CEST
DTSTART:20230326T010000
END:DAYLIGHT
BEGIN:STANDARD
TZOFFSETFROM:+0200
TZOFFSETTO:+0100
TZNAME:CET
DTSTART:20231029T010000
END:STANDARD
END:VTIMEZONE
BEGIN:VEVENT
DTSTART;TZID=Europe/Paris:20221013T090000
DTEND;TZID=Europe/Paris:20221014T180000
DTSTAMP:20260424T092741
CREATED:20230706T140534Z
LAST-MODIFIED:20230706T140535Z
UID:20082-1665651600-1665770400@laslar.unicaen.fr
SUMMARY:Imaginaire contemporain de la cathédrale 2. Enjeux & représentations XXe - XXIe siècles. Programme pluriannuel - 2020/2024
DESCRIPTION:Il s’agit du second colloque dédié à L’imaginaire contemporain de la cathédrale. Le premier s’est tenu à Arras les 12&13 mai 2022. Responsables Brigitte Poitrenaud-Lamesi & Myriam White Legoff (Université d’Artois). Le programme se propose de confronter la cathédrale\, au sens large\, à la « postmodernité » et même à son « actualité »\, dans les pays de cultures romanes. Il s’agit d’étudier les multiples variations\, reprises\, recréations voire les détournements dont elle fait l’objet pour interroger son statut\, sa fonction\, réelle et symbolique\, à partir de la seconde moitié du XXe siècle jusqu’à nos jours\, afin de cerner\, comprendre\, restituer les enjeux culturels contemporains liés aux imaginaires de la cathédrale selon une approche croisée. \n\n\n\nProgramme Imaginaires contemporains de la cathédrale
URL:https://laslar.unicaen.fr/evenement/imaginaire-contemporain-de-la-cathedrale-2-enjeux-representations-xxe-xxie-siecles-programme-pluriannuel-2020-2024/
LOCATION:Caen · Campus 1 · Maison de la recherche en sciences humaines (MRSH) · Salle des Actes (SH027)\, Campus 1\, Maison de la recherche en sciences humaines (MRSH)\, 1 Esplanade de la Paix\, Caen\, 14000\, France
CATEGORIES:Congrès - Colloque
ORGANIZER;CN="Brigitte POITRENAUD-LAMESI":MAILTO:brigitte.poitrenaud-lamesi@unicaen.fr
END:VEVENT
BEGIN:VEVENT
DTSTART;TZID=Europe/Paris:20221013T140000
DTEND;TZID=Europe/Paris:20221014T170000
DTSTAMP:20260424T092741
CREATED:20230706T141253Z
LAST-MODIFIED:20230706T141254Z
UID:20087-1665669600-1665766800@laslar.unicaen.fr
SUMMARY:Poésie antique/poésie contemporaine : face à face\, affleurement\, empreinte
DESCRIPTION:Le colloque « Poésie antique / poésie contemporaine : face à face\, affleurement\, empreinte » a pour objectif d’explorer les modes de présence de la poésie antique dans la poésie d’aujourd’hui comme autant de mises en relation de l’une et l’autre. Il appréhende la poésie antique comme un ensemble meuble et mouvant de mythèmes\, de références cachées\, de formes et de figures enfouies modelant l’imaginaire et la mémoire\, tant individuels que collectifs :  \n\n\n\n\ncomment la matière poétique antique vi- site-t-elle le présent\, le hante-t-elle ou l’irrigue-t-elle ?\n\n\n\nComment est-elle convoquée ou invoquée par la poésie contemporaine ?\n\n\n\nComment fait-elle irruption ou effraction dans celle-ci ?\n\n\n\nEt comment la présence vivace de l’antique entre-t-elle en tension avec la tentation mélancolique ?\n\n\n\n\n   Programme Poésie antique / Poésie contemporaine : face à face\, affleurement\, empreinte
URL:https://laslar.unicaen.fr/evenement/poesie-antique-poesie-contemporaine-face-a-face-affleurement-empreinte/
LOCATION:Caen · Campus 1 · Maison de la recherche en sciences humaines (MRSH) · Amphi\, Campus 1\, Maison de la recherche en sciences humaines (MRSH)\, 1 Esplanade de la Paix\, Caen\, 14000\, France
CATEGORIES:Journée d'étude
ORGANIZER;CN="Claire LECHEVALIER et Anne GOURIO":MAILTO:claire.lechevalier@unicaen.fr
END:VEVENT
END:VCALENDAR